BEGIN:VCALENDAR
VERSION:2.0
METHOD:PUBLISH
CALSCALE:GREGORIAN
PRODID:-//Helios Calendar//EN
X-FROM-URL:https://theblueridgehighlander.com/calendar/index.php?eID=15810
X-WR-RELCALID:Highlander Calendar of Events Chimney Rock NC - Chimney Rock: Summer Photo Contest - Different View 20240701T000000
X-WR-TIMEZONE:America/New_York
X-WR-CALNAME:Highlander Calendar of Events
BEGIN:VEVENT
URL;VALUE=URI:https://theblueridgehighlander.com/calendar/index.php?eID=15810
DTSTART:20240701T000000
DTEND:20240701T235900
SUMMARY:Chimney Rock NC - Chimney Rock: Summer Photo Contest - Different View
DESCRIPTION:Different ViewSummer Photo ContestWe’ve seen some incredible photos of the views at Chimney Rock over the years\, and we’re excited to see more. Pack your cameras for your trip to... For complete event details please visit:  https://theblueridgehighlander.com/calendar/?eID=15810\n______________________________\nEvent Downloaded Powered by Helios Calendar
LOCATION:Chimney Rock at Chimney Rock State Park - 174 Chimney Rock Park Road \, Chimney Rock\, NC USA 28720
CATEGORIES:Highlander Calendar of Events Events
PRIORITY:0
TRANSP:TRANSPARENT
END:VEVENT
END:VCALENDAR