BEGIN:VCALENDAR
VERSION:2.0
METHOD:PUBLISH
CALSCALE:GREGORIAN
PRODID:-//Helios Calendar//EN
X-FROM-URL:https://theblueridgehighlander.com/calendar/index.php?eID=15918
X-WR-RELCALID:Highlander Calendar of Events Hiawassee GA - ZZ Top in Concert 20250318T190000
X-WR-TIMEZONE:America/New_York
X-WR-CALNAME:Highlander Calendar of Events
BEGIN:VEVENT
URL;VALUE=URI:https://theblueridgehighlander.com/calendar/index.php?eID=15918
DTSTART:20250318T190000
DTEND:20250318T190000
SUMMARY:Hiawassee GA - ZZ Top in Concert
DESCRIPTION:ZZ TOPWith The SedonasTuesday\, March 18\, 2025 - 7pm“That Little Ol' Band From Texas” has been at it for well over a half century\, delivering rock\, blues and boogie... For complete event details please visit:  https://theblueridgehighlander.com/calendar/?eID=15918\n______________________________\nEvent Downloaded Powered by Helios Calendar
LOCATION:Georgia Mountain Fairgrounds - 1311 Music Hall Road \, Hiawassee\, GA USA 30546
CATEGORIES:Highlander Calendar of Events Events
PRIORITY:0
TRANSP:TRANSPARENT
END:VEVENT
END:VCALENDAR