BEGIN:VCALENDAR
VERSION:2.0
METHOD:PUBLISH
CALSCALE:GREGORIAN
PRODID:-//Helios Calendar//EN
X-FROM-URL:https://theblueridgehighlander.com/calendar/index.php?eID=15964
X-WR-RELCALID:Highlander Calendar of Events Hiawassee GA - Georgia Mountain Fire & Smoke Cooking Festival 20250517T090000
X-WR-TIMEZONE:America/New_York
X-WR-CALNAME:Highlander Calendar of Events
BEGIN:VEVENT
URL;VALUE=URI:https://theblueridgehighlander.com/calendar/index.php?eID=15964
DTSTART:20250517T090000
DTEND:20250517T150000
SUMMARY:Hiawassee GA - Georgia Mountain Fire & Smoke Cooking Festival
DESCRIPTION:Georgia Mountain Fire & Smoke Cooking FestivalMay 16th\, 2025\, Meet & Greet party from 5pm-8pmMay 17th\, 2025\, Cooking Festival from 9am-3pmTasting Ticket: $30Georgia... For complete event details please visit:  https://theblueridgehighlander.com/calendar/?eID=15964\n______________________________\nEvent Downloaded Powered by Helios Calendar
LOCATION:Georgia Mountain Fairgrounds - 1311 Music Hall Road \, Hiawassee\, GA USA 30546
CATEGORIES:Highlander Calendar of Events Events
PRIORITY:0
TRANSP:TRANSPARENT
END:VEVENT
END:VCALENDAR