BEGIN:VCALENDAR
VERSION:2.0
METHOD:PUBLISH
CALSCALE:GREGORIAN
PRODID:-//Helios Calendar//EN
X-FROM-URL:https://theblueridgehighlander.com/calendar/index.php?eID=16016
X-WR-RELCALID:Highlander Calendar of Events Hiawassee GA - Bob Seger tribute band Mainstreet in Concert 20251004T190000
X-WR-TIMEZONE:America/New_York
X-WR-CALNAME:Highlander Calendar of Events
BEGIN:VEVENT
URL;VALUE=URI:https://theblueridgehighlander.com/calendar/index.php?eID=16016
DTSTART:20251004T190000
DTEND:20251004T190000
SUMMARY:Hiawassee GA - Bob Seger tribute band Mainstreet in Concert
DESCRIPTION:Bob Seger tribute - Steve Kelly and the Mainstreet bandSaturday\, October 4th\, 2025 - 7pmAdmission: $25.00 + handlingClear Bag policy strictly enforcedSteve Kelly and the Mainstreet... For complete event details please visit:  https://theblueridgehighlander.com/calendar/?eID=16016\n______________________________\nEvent Downloaded Powered by Helios Calendar
LOCATION:Georgia Mountain Fairgrounds - 1311 Music Hall Road \, Hiawassee\, GA USA 30546
CATEGORIES:Highlander Calendar of Events Events
PRIORITY:0
TRANSP:TRANSPARENT
END:VEVENT
END:VCALENDAR