BEGIN:VCALENDAR
VERSION:2.0
METHOD:PUBLISH
CALSCALE:GREGORIAN
PRODID:-//Helios Calendar//EN
X-FROM-URL:https://theblueridgehighlander.com/calendar/index.php?eID=16028
X-WR-RELCALID:Highlander Calendar of Events Hiawassee GA - Josh Turner in Concert 20251017T190000
X-WR-TIMEZONE:America/New_York
X-WR-CALNAME:Highlander Calendar of Events
BEGIN:VEVENT
URL;VALUE=URI:https://theblueridgehighlander.com/calendar/index.php?eID=16028
DTSTART:20251017T190000
DTEND:20251017T190000
SUMMARY:Hiawassee GA - Josh Turner in Concert
DESCRIPTION:Josh Turner - This Country Music Thing TourFriday\, October 17th - 7pmTickets are $47 each + handlingFREE admission to the Fall Festival with ticketClear Bag policy strictly enforcedTwenty-plus... For complete event details please visit:  https://theblueridgehighlander.com/calendar/?eID=16028\n______________________________\nEvent Downloaded Powered by Helios Calendar
LOCATION:Georgia Mountain Fairgrounds - 1311 Music Hall Road \, Hiawassee\, GA USA 30546
CATEGORIES:Highlander Calendar of Events Events
PRIORITY:0
TRANSP:TRANSPARENT
END:VEVENT
END:VCALENDAR