BEGIN:VCALENDAR
VERSION:2.0
METHOD:PUBLISH
CALSCALE:GREGORIAN
PRODID:-//Helios Calendar//EN
X-FROM-URL:https://theblueridgehighlander.com/calendar/index.php?eID=16656
X-WR-RELCALID:Highlander Calendar of Events Blue Ridge GA - BRMAA - Member’s Holiday Market 20251213T110000
X-WR-TIMEZONE:America/New_York
X-WR-CALNAME:Highlander Calendar of Events
BEGIN:VEVENT
URL;VALUE=URI:https://theblueridgehighlander.com/calendar/index.php?eID=16656
DTSTART:20251213T110000
DTEND:20251214T060000
SUMMARY:Blue Ridge GA - BRMAA - Member’s Holiday Market
DESCRIPTION: BRMAA - Member’s Holiday Market Come shop for that perfect holiday gift\, one that is creative and unique during this holiday retail exhibit.  We will have a multitude... For complete event details please visit:  https://theblueridgehighlander.com/calendar/?eID=16656\n______________________________\nEvent Downloaded Powered by Helios Calendar
LOCATION:The Art Center - Blue Ridge Mtn Arts Association - 420 West Main Street \, Blue Ridge\, GA USA 30513
CATEGORIES:Highlander Calendar of Events Events
PRIORITY:0
TRANSP:TRANSPARENT
END:VEVENT
END:VCALENDAR