BEGIN:VCALENDAR
VERSION:2.0
METHOD:PUBLISH
CALSCALE:GREGORIAN
PRODID:-//Helios Calendar//EN
X-FROM-URL:https://theblueridgehighlander.com/calendar/index.php?eID=16681
X-WR-RELCALID:Highlander Calendar of Events Blue Ridge GA - Gingerbread Village in the Studio Gallery 20251218T100000
X-WR-TIMEZONE:America/New_York
X-WR-CALNAME:Highlander Calendar of Events
BEGIN:VEVENT
URL;VALUE=URI:https://theblueridgehighlander.com/calendar/index.php?eID=16681
DTSTART:20251218T100000
DTEND:20251218T180000
SUMMARY:Blue Ridge GA - Gingerbread Village in the Studio Gallery
DESCRIPTION:Gingerbread Village (Studio Gallery)November 29th to December 22nd   For complete event details please visit:  https://theblueridgehighlander.com/calendar/?eID=16681\n______________________________\nEvent Downloaded Powered by Helios Calendar
LOCATION:The Art Center - Blue Ridge Mtn Arts Association - 420 West Main Street \, Blue Ridge\, GA USA 30513
CATEGORIES:Highlander Calendar of Events Events
PRIORITY:0
TRANSP:TRANSPARENT
END:VEVENT
END:VCALENDAR