BEGIN:VCALENDAR
VERSION:2.0
METHOD:PUBLISH
CALSCALE:GREGORIAN
PRODID:-//Helios Calendar//EN
X-FROM-URL:https://theblueridgehighlander.com/calendar/index.php?eID=16687
X-WR-RELCALID:Highlander Calendar of Events Hiawassee, GA - Ricky Skaggs & Kentucky Thunder in Concert 20251016T190000
X-WR-TIMEZONE:America/New_York
X-WR-CALNAME:Highlander Calendar of Events
BEGIN:VEVENT
URL;VALUE=URI:https://theblueridgehighlander.com/calendar/index.php?eID=16687
DTSTART:20251016T190000
DTEND:20251016T190000
SUMMARY:Hiawassee\, GA - Ricky Skaggs & Kentucky Thunder in Concert
DESCRIPTION:Ricky Skaggs & Kentucky ThunderSpecial Guest: Sister SadieThursday\, October 16th • 7pmAdmission: $35 + handlingFREE admission to the Fall Festival with ticket.Clear Bag policy strictly... For complete event details please visit:  https://theblueridgehighlander.com/calendar/?eID=16687\n______________________________\nEvent Downloaded Powered by Helios Calendar
LOCATION:Georgia Mountain Fairgrounds - 1311 Music Hall Road \, Hiawassee\, GA USA 30546
CATEGORIES:Highlander Calendar of Events Events
PRIORITY:0
TRANSP:TRANSPARENT
END:VEVENT
END:VCALENDAR