BEGIN:VCALENDAR
VERSION:2.0
METHOD:PUBLISH
CALSCALE:GREGORIAN
PRODID:-//Helios Calendar//EN
X-FROM-URL:https://theblueridgehighlander.com/calendar/index.php?eID=16738
X-WR-RELCALID:Highlander Calendar of Events Hiawassee, Ga - John Crist...Comedy at Georgia Mountain Fairgrounds 20250928T190000
X-WR-TIMEZONE:America/New_York
X-WR-CALNAME:Highlander Calendar of Events
BEGIN:VEVENT
URL;VALUE=URI:https://theblueridgehighlander.com/calendar/index.php?eID=16738
DTSTART:20250928T190000
DTEND:20250928T190000
SUMMARY:Hiawassee\, Ga - John Crist...Comedy at Georgia Mountain Fairgrounds
DESCRIPTION:John Crist: Jokes for HumansSunday\, September 28\, 2025 • 7pmTickets range in price from $29.75 - $79.75 each + handlingVIP Ticket to include:· One Top Price Reserved Ticket in best... For complete event details please visit:  https://theblueridgehighlander.com/calendar/?eID=16738\n______________________________\nEvent Downloaded Powered by Helios Calendar
LOCATION:Georgia Mountain Fairgrounds - 1311 Music Hall Road \, Hiawassee\, GA USA 30546
CATEGORIES:Highlander Calendar of Events Events
PRIORITY:0
TRANSP:TRANSPARENT
END:VEVENT
END:VCALENDAR