BEGIN:VCALENDAR
VERSION:2.0
METHOD:PUBLISH
CALSCALE:GREGORIAN
PRODID:-//Helios Calendar//EN
X-FROM-URL:https://theblueridgehighlander.com/calendar/index.php?eID=16773
X-WR-RELCALID:Highlander Calendar of Events Hiawassee GA - Lee Brice in Concert at Georgia Mountain Fairgrounds 20250808T190000
X-WR-TIMEZONE:America/New_York
X-WR-CALNAME:Highlander Calendar of Events
BEGIN:VEVENT
URL;VALUE=URI:https://theblueridgehighlander.com/calendar/index.php?eID=16773
DTSTART:20250808T190000
DTEND:20250808T190000
SUMMARY:Hiawassee GA - Lee Brice in Concert at Georgia Mountain Fairgrounds
DESCRIPTION:Lee BriceFriday\, August 8\, 2025 - 7pmAdmission: $76.00 + handlingClear Bag policy strictly enforcedWhen Curb Records recording artist\, Lee Brice\, isn't selling out arenas\, writing and recording... For complete event details please visit:  https://theblueridgehighlander.com/calendar/?eID=16773\n______________________________\nEvent Downloaded Powered by Helios Calendar
LOCATION:Georgia Mountain Fairgrounds - 1311 Music Hall Road \, Hiawassee\, GA USA 30546
CATEGORIES:Highlander Calendar of Events Events
PRIORITY:0
TRANSP:TRANSPARENT
END:VEVENT
END:VCALENDAR