BEGIN:VCALENDAR
VERSION:2.0
METHOD:PUBLISH
CALSCALE:GREGORIAN
PRODID:-//Helios Calendar//EN
X-FROM-URL:https://theblueridgehighlander.com/calendar/index.php?eID=16830
X-WR-RELCALID:Highlander Calendar of Events Blue Ridge GA - BRMAA - AIR 4th Quarter - Micah Goguen: Bold Art. Human Stories 20251221T100000
X-WR-TIMEZONE:America/New_York
X-WR-CALNAME:Highlander Calendar of Events
BEGIN:VEVENT
URL;VALUE=URI:https://theblueridgehighlander.com/calendar/index.php?eID=16830
DTSTART:20251221T100000
DTEND:20251221T180000
SUMMARY:Blue Ridge GA - BRMAA - AIR 4th Quarter - Micah Goguen: Bold Art. Human Stories
DESCRIPTION:AIR 4th Qtr – Micah Goguen Artist in ResidencyAugust 30th - December 21stThe Art Center welcomes Micah Goguen as our newest Artist in Residence. Known for his expressive portraits\, bold... For complete event details please visit:  https://theblueridgehighlander.com/calendar/?eID=16830\n______________________________\nEvent Downloaded Powered by Helios Calendar
LOCATION:The Art Center - Blue Ridge Mtn Arts Association - 420 West Main Street \, Blue Ridge\, GA USA 30513
CATEGORIES:Highlander Calendar of Events Events
PRIORITY:0
TRANSP:TRANSPARENT
END:VEVENT
END:VCALENDAR