BEGIN:VCALENDAR
VERSION:2.0
METHOD:PUBLISH
CALSCALE:GREGORIAN
PRODID:-//Helios Calendar//EN
X-FROM-URL:https://theblueridgehighlander.com/calendar/index.php?eID=16843
X-WR-RELCALID:Highlander Calendar of Events Blue Ridge GA - BRMAA - 15th Annual Fall Arts in the Park 20251011T100000
X-WR-TIMEZONE:America/New_York
X-WR-CALNAME:Highlander Calendar of Events
BEGIN:VEVENT
URL;VALUE=URI:https://theblueridgehighlander.com/calendar/index.php?eID=16843
DTSTART:20251011T100000
DTEND:20251011T170000
SUMMARY:Blue Ridge GA - BRMAA - 15th Annual Fall Arts in the Park
DESCRIPTION: 15th Annual Fall Arts in the ParkExperience the creative heart of the mountains at Blue Ridge’s 15th Annual Fall Arts in the Park Festival. Featuring over 150 fine artists and craftsmen\,... For complete event details please visit:  https://theblueridgehighlander.com/calendar/?eID=16843\n______________________________\nEvent Downloaded Powered by Helios Calendar
LOCATION:The Art Center - Blue Ridge Mtn Arts Association - 420 West Main Street \, Blue Ridge\, GA USA 30513
CATEGORIES:Highlander Calendar of Events Events
PRIORITY:0
TRANSP:TRANSPARENT
END:VEVENT
END:VCALENDAR