BEGIN:VCALENDAR
VERSION:2.0
METHOD:PUBLISH
CALSCALE:GREGORIAN
PRODID:-//Helios Calendar//EN
X-FROM-URL:https://theblueridgehighlander.com/calendar/index.php?eID=16967
X-WR-RELCALID:Highlander Calendar of Events Chimney Rock NC - What a Ranger Does Storywalk® 20250802T100000
X-WR-TIMEZONE:America/New_York
X-WR-CALNAME:Highlander Calendar of Events
BEGIN:VEVENT
URL;VALUE=URI:https://theblueridgehighlander.com/calendar/index.php?eID=16967
DTSTART:20250802T100000
DTEND:20250802T120000
SUMMARY:Chimney Rock NC - What a Ranger Does Storywalk®
DESCRIPTION:What a Ranger Does Storywalk®Come celebrate “World Ranger Day” as you take a walk and read “What a Park Ranger Does” written by Joseph Hiatt\, a former Chimney... For complete event details please visit:  https://theblueridgehighlander.com/calendar/?eID=16967\n______________________________\nEvent Downloaded Powered by Helios Calendar
LOCATION:Chimney Rock at Chimney Rock State Park - 174 Chimney Rock Park Road \, Chimney Rock\, NC USA 28720
CATEGORIES:Highlander Calendar of Events Events
PRIORITY:0
TRANSP:TRANSPARENT
END:VEVENT
END:VCALENDAR