BEGIN:VCALENDAR
VERSION:2.0
METHOD:PUBLISH
CALSCALE:GREGORIAN
PRODID:-//Helios Calendar//EN
X-FROM-URL:https://theblueridgehighlander.com/calendar/index.php?eID=16975
X-WR-RELCALID:Highlander Calendar of Events Chimney Rock NC - Naturalist Niche: Fall Color Hike 20251018T090000
X-WR-TIMEZONE:America/New_York
X-WR-CALNAME:Highlander Calendar of Events
BEGIN:VEVENT
URL;VALUE=URI:https://theblueridgehighlander.com/calendar/index.php?eID=16975
DTSTART:20251018T090000
DTEND:20251018T120000
SUMMARY:Chimney Rock NC - Naturalist Niche: Fall Color Hike
DESCRIPTION:Naturalist Niche: Fall Color HikeExperience fall color in Chimney Rock at its best on this guided hike with a local naturalist. Explore stunning fall views throughout the park and learn what natural... For complete event details please visit:  https://theblueridgehighlander.com/calendar/?eID=16975\n______________________________\nEvent Downloaded Powered by Helios Calendar
LOCATION:Chimney Rock at Chimney Rock State Park - 174 Chimney Rock Park Road \, Chimney Rock\, NC USA 28720
CATEGORIES:Highlander Calendar of Events Events
PRIORITY:0
TRANSP:TRANSPARENT
END:VEVENT
END:VCALENDAR