BEGIN:VCALENDAR
VERSION:2.0
METHOD:PUBLISH
CALSCALE:GREGORIAN
PRODID:-//Helios Calendar//EN
X-FROM-URL:https://theblueridgehighlander.com/calendar/index.php?eID=16980
X-WR-RELCALID:Highlander Calendar of Events Chimney Rock NC - Veterans Day Special: Free Admission for Veterans 20251108T083000
X-WR-TIMEZONE:America/New_York
X-WR-CALNAME:Highlander Calendar of Events
BEGIN:VEVENT
URL;VALUE=URI:https://theblueridgehighlander.com/calendar/index.php?eID=16980
DTSTART:20251108T083000
DTEND:20251108T183000
SUMMARY:Chimney Rock NC - Veterans Day Special: Free Admission for Veterans
DESCRIPTION:Veterans Day Special: Free Admission for VeteransChimney Rock honors all veterans and active military personnel with free admission for Veterans Day weekend. Must present military ID or proof... For complete event details please visit:  https://theblueridgehighlander.com/calendar/?eID=16980\n______________________________\nEvent Downloaded Powered by Helios Calendar
LOCATION:Chimney Rock at Chimney Rock State Park - 174 Chimney Rock Park Road \, Chimney Rock\, NC USA 28720
CATEGORIES:Highlander Calendar of Events Events
PRIORITY:0
TRANSP:TRANSPARENT
END:VEVENT
END:VCALENDAR