BEGIN:VCALENDAR
VERSION:2.0
METHOD:PUBLISH
CALSCALE:GREGORIAN
PRODID:-//Helios Calendar//EN
X-FROM-URL:https://theblueridgehighlander.com/calendar/index.php?eID=16984
X-WR-RELCALID:Highlander Calendar of Events Chimney Rock NC - Naturalist Niche: Ridge Hike 20251108T210000
X-WR-TIMEZONE:America/New_York
X-WR-CALNAME:Highlander Calendar of Events
BEGIN:VEVENT
URL;VALUE=URI:https://theblueridgehighlander.com/calendar/index.php?eID=16984
DTSTART:20251108T210000
DTEND:20251109T120000
SUMMARY:Chimney Rock NC - Naturalist Niche: Ridge Hike
DESCRIPTION:Naturalist Niche: Ridge HikeStep off the beaten path and join one of our favorite hikes of the year led by a local naturalist. This special trek explores areas of the park normally closed to the... For complete event details please visit:  https://theblueridgehighlander.com/calendar/?eID=16984\n______________________________\nEvent Downloaded Powered by Helios Calendar
LOCATION:Chimney Rock at Chimney Rock State Park - 174 Chimney Rock Park Road \, Chimney Rock\, NC USA 28720
CATEGORIES:Highlander Calendar of Events Events
PRIORITY:0
TRANSP:TRANSPARENT
END:VEVENT
END:VCALENDAR