BEGIN:VCALENDAR
VERSION:2.0
METHOD:PUBLISH
CALSCALE:GREGORIAN
PRODID:-//Helios Calendar//EN
X-FROM-URL:https://theblueridgehighlander.com/calendar/index.php?eID=16987
X-WR-RELCALID:Highlander Calendar of Events Chimney Rock NC - Thanksgiving Animal Encounters 20251129T140000
X-WR-TIMEZONE:America/New_York
X-WR-CALNAME:Highlander Calendar of Events
BEGIN:VEVENT
URL;VALUE=URI:https://theblueridgehighlander.com/calendar/index.php?eID=16987
DTSTART:20251129T140000
DTEND:20251129T144500
SUMMARY:Chimney Rock NC - Thanksgiving Animal Encounters
DESCRIPTION:�Thanksgiving Animal EncountersTake your holiday weekend to a wild place and join us for Thanksgiving Weekend Animal Encounters. Meet some of our live animal ambassadors\, and learn from... For complete event details please visit:  https://theblueridgehighlander.com/calendar/?eID=16987\n______________________________\nEvent Downloaded Powered by Helios Calendar
LOCATION:Chimney Rock at Chimney Rock State Park - 174 Chimney Rock Park Road \, Chimney Rock\, NC USA 28720
CATEGORIES:Highlander Calendar of Events Events
PRIORITY:0
TRANSP:TRANSPARENT
END:VEVENT
END:VCALENDAR