BEGIN:VCALENDAR
VERSION:2.0
METHOD:PUBLISH
CALSCALE:GREGORIAN
PRODID:-//Helios Calendar//EN
X-FROM-URL:https://theblueridgehighlander.com/calendar/index.php?eID=17001
X-WR-RELCALID:Highlander Calendar of Events Chimney Rock NC - Winter Break Family Animal Encounters 20251231T140000
X-WR-TIMEZONE:America/New_York
X-WR-CALNAME:Highlander Calendar of Events
BEGIN:VEVENT
URL;VALUE=URI:https://theblueridgehighlander.com/calendar/index.php?eID=17001
DTSTART:20251231T140000
DTEND:20251231T144500
SUMMARY:Chimney Rock NC - Winter Break Family Animal Encounters
DESCRIPTION:Winter Break Family Animal EncountersOur live animal ambassadors and naturalists are back for more winter break fun. Get some fresh air and meet us on the Outcroppings Deck daily at 2pm to learn... For complete event details please visit:  https://theblueridgehighlander.com/calendar/?eID=17001\n______________________________\nEvent Downloaded Powered by Helios Calendar
LOCATION:Chimney Rock at Chimney Rock State Park - 174 Chimney Rock Park Road \, Chimney Rock\, NC USA 28720
CATEGORIES:Highlander Calendar of Events Events
PRIORITY:0
TRANSP:TRANSPARENT
END:VEVENT
END:VCALENDAR