BEGIN:VCALENDAR
VERSION:2.0
METHOD:PUBLISH
CALSCALE:GREGORIAN
PRODID:-//Helios Calendar//EN
X-FROM-URL:https://theblueridgehighlander.com/calendar/index.php?eID=17002
X-WR-RELCALID:Highlander Calendar of Events Hiawassee GA - Park After Dark at the Hamilton Rhododendron Gardens 20251009T190000
X-WR-TIMEZONE:America/New_York
X-WR-CALNAME:Highlander Calendar of Events
BEGIN:VEVENT
URL;VALUE=URI:https://theblueridgehighlander.com/calendar/index.php?eID=17002
DTSTART:20251009T190000
DTEND:20251009T220000
SUMMARY:Hiawassee GA - Park After Dark at the Hamilton Rhododendron Gardens
DESCRIPTION:Park After DarkFall in Love with Hamilton Rhododendron Gardens in Another LightAn open walk down the gardens Main Trail to Fishing Hole Rock. The trail is lined with colorful lights and torches... For complete event details please visit:  https://theblueridgehighlander.com/calendar/?eID=17002\n______________________________\nEvent Downloaded Powered by Helios Calendar
LOCATION:Georgia Mountain Fairgrounds - 1311 Music Hall Road \, Hiawassee\, GA USA 30546
CATEGORIES:Highlander Calendar of Events Events
PRIORITY:0
TRANSP:TRANSPARENT
END:VEVENT
END:VCALENDAR