BEGIN:VCALENDAR
VERSION:2.0
METHOD:PUBLISH
CALSCALE:GREGORIAN
PRODID:-//Helios Calendar//EN
X-FROM-URL:https://theblueridgehighlander.com/calendar/index.php?eID=17040
X-WR-RELCALID:Highlander Calendar of Events John C. Campbell Folk School - Morningsong with Martha Owen & David Liden (Folk School History) 20251206T194500
X-WR-TIMEZONE:America/New_York
X-WR-CALNAME:Highlander Calendar of Events
BEGIN:VEVENT
URL;VALUE=URI:https://theblueridgehighlander.com/calendar/index.php?eID=17040
DTSTART:20251206T194500
DTEND:20251206T201500
SUMMARY:John C. Campbell Folk School - Morningsong with Martha Owen & David Liden (Folk School History)
DESCRIPTION:Morningsong with Martha Owen & David Liden (Folk School History)Morningsong\, a Danish custom of singing\, folklore\, and camaraderie\, is how we start class days at the Folk School.Before breakfast\,... For complete event details please visit:  https://theblueridgehighlander.com/calendar/?eID=17040\n______________________________\nEvent Downloaded Powered by Helios Calendar
LOCATION:John C. Campbell Folk School - Celebrating 100 years of Creativity & Community - 1 Folk School Road \, Brasstown\, NC USA 28902
CATEGORIES:Highlander Calendar of Events Events
PRIORITY:0
TRANSP:TRANSPARENT
END:VEVENT
END:VCALENDAR