BEGIN:VCALENDAR
VERSION:2.0
METHOD:PUBLISH
CALSCALE:GREGORIAN
PRODID:-//Helios Calendar//EN
X-FROM-URL:https://theblueridgehighlander.com/calendar/index.php?eID=17042
X-WR-RELCALID:Highlander Calendar of Events John C. Campbell Folk School - English Country Dance with Harrison Keely & Mist o'the Glen 20251207T140000
X-WR-TIMEZONE:America/New_York
X-WR-CALNAME:Highlander Calendar of Events
BEGIN:VEVENT
URL;VALUE=URI:https://theblueridgehighlander.com/calendar/index.php?eID=17042
DTSTART:20251207T140000
DTEND:20251207T163000
SUMMARY:John C. Campbell Folk School - English Country Dance with Harrison Keely & Mist o'the Glen
DESCRIPTION:English Country Dance with Harrison Keely & Mist o'the Glen*Schedule and lineup are subject to change. Please reference www.folkschool.org… for the most up to date information.  Dances... For complete event details please visit:  https://theblueridgehighlander.com/calendar/?eID=17042\n______________________________\nEvent Downloaded Powered by Helios Calendar
LOCATION:John C. Campbell Folk School - Celebrating 100 years of Creativity & Community - 1 Folk School Road \, Brasstown\, NC USA 28902
CATEGORIES:Highlander Calendar of Events Events
PRIORITY:0
TRANSP:TRANSPARENT
END:VEVENT
END:VCALENDAR