BEGIN:VCALENDAR
VERSION:2.0
METHOD:PUBLISH
CALSCALE:GREGORIAN
PRODID:-//Helios Calendar//EN
X-FROM-URL:https://theblueridgehighlander.com/calendar/index.php?eID=17043
X-WR-RELCALID:Highlander Calendar of Events John C. Campbell Folk School - Winter Holiday at the Folk School 20251208T164500
X-WR-TIMEZONE:America/New_York
X-WR-CALNAME:Highlander Calendar of Events
BEGIN:VEVENT
URL;VALUE=URI:https://theblueridgehighlander.com/calendar/index.php?eID=17043
DTSTART:20251208T164500
DTEND:20251208T164500
SUMMARY:John C. Campbell Folk School - Winter Holiday at the Folk School
DESCRIPTION:Winter Holiday at the Folk SchoolJoin us in the Keith House Community Room for a presentation with Annie Fain Barralon. Annie Fain will share traditions\, stories\, and celebrations that make... For complete event details please visit:  https://theblueridgehighlander.com/calendar/?eID=17043\n______________________________\nEvent Downloaded Powered by Helios Calendar
LOCATION:John C. Campbell Folk School - Celebrating 100 years of Creativity & Community - 1 Folk School Road \, Brasstown\, NC USA 28902
CATEGORIES:Highlander Calendar of Events Events
PRIORITY:0
TRANSP:TRANSPARENT
END:VEVENT
END:VCALENDAR