BEGIN:VCALENDAR
VERSION:2.0
METHOD:PUBLISH
CALSCALE:GREGORIAN
PRODID:-//Helios Calendar//EN
X-FROM-URL:https://theblueridgehighlander.com/calendar/index.php?eID=17415
X-WR-RELCALID:Highlander Calendar of Events Hiawassee GA - Gospel Day - The Isaacs & the Mylon Hayes Family 20261011T140000
X-WR-TIMEZONE:America/New_York
X-WR-CALNAME:Highlander Calendar of Events
BEGIN:VEVENT
URL;VALUE=URI:https://theblueridgehighlander.com/calendar/index.php?eID=17415
DTSTART:20261011T140000
DTEND:20261011T140000
SUMMARY:Hiawassee GA - Gospel Day - The Isaacs & the Mylon Hayes Family
DESCRIPTION:Gospel Music ShowThe Isaacs & the Mylon Hayes FamilySunday\, October 11th - 2pmAdmission: $20 Ticket includes Fall Festival admissionClear Bag policy strictly enforced.The... For complete event details please visit:  https://theblueridgehighlander.com/calendar/?eID=17415\n______________________________\nEvent Downloaded Powered by Helios Calendar
LOCATION:Georgia Mountain Fairgrounds - 1311 Music Hall Road \, Hiawassee\, GA USA 30546
CATEGORIES:Highlander Calendar of Events Events
PRIORITY:0
TRANSP:TRANSPARENT
END:VEVENT
END:VCALENDAR