BEGIN:VCALENDAR
VERSION:2.0
METHOD:PUBLISH
CALSCALE:GREGORIAN
PRODID:-//Helios Calendar//EN
X-FROM-URL:https://theblueridgehighlander.com/calendar/index.php?eID=17453
X-WR-RELCALID:Highlander Calendar of Events Hiawassee GA - Georgia Mountain Fire & Smoke Cooking Festival 20260516T090000
X-WR-TIMEZONE:America/New_York
X-WR-CALNAME:Highlander Calendar of Events
BEGIN:VEVENT
URL;VALUE=URI:https://theblueridgehighlander.com/calendar/index.php?eID=17453
DTSTART:20260516T090000
DTEND:20260516T150000
SUMMARY:Hiawassee GA - Georgia Mountain Fire & Smoke Cooking Festival
DESCRIPTION:Get Ready for the Ultimate Culinary Experience!Georgia Mountain Fire & Smoke Cooking FestivalMay 15th\, 2026\, Meet & Greet party from 5pm-8pmMay 16th\, 2026\, Cooking... For complete event details please visit:  https://theblueridgehighlander.com/calendar/?eID=17453\n______________________________\nEvent Downloaded Powered by Helios Calendar
LOCATION:Georgia Mountain Fairgrounds - 1311 Music Hall Road \, Hiawassee\, GA USA 30546
CATEGORIES:Highlander Calendar of Events Events
PRIORITY:0
TRANSP:TRANSPARENT
END:VEVENT
END:VCALENDAR