BEGIN:VCALENDAR
VERSION:2.0
METHOD:PUBLISH
CALSCALE:GREGORIAN
PRODID:-//Helios Calendar//EN
X-FROM-URL:https://theblueridgehighlander.com/calendar/index.php?eID=17458
X-WR-RELCALID:Highlander Calendar of Events Hiawassee, GA - Bob Seger tribute Mainstreet 20261003T193000
X-WR-TIMEZONE:America/New_York
X-WR-CALNAME:Highlander Calendar of Events
BEGIN:VEVENT
URL;VALUE=URI:https://theblueridgehighlander.com/calendar/index.php?eID=17458
DTSTART:20261003T193000
DTEND:20261003T193000
SUMMARY:Hiawassee\, GA - Bob Seger tribute Mainstreet
DESCRIPTION:Bob Seger tribute MainstreetSaturday\, October 3\, 20267:30pmAdmission: $30.00 + handlingMainstreet - The Premier Bob Seger tribute.Known for capturing the heart\, soul\, and energy of Bob... For complete event details please visit:  https://theblueridgehighlander.com/calendar/?eID=17458\n______________________________\nEvent Downloaded Powered by Helios Calendar
LOCATION:Georgia Mountain Fairgrounds - 1311 Music Hall Road \, Hiawassee\, GA USA 30546
CATEGORIES:Highlander Calendar of Events Events
PRIORITY:0
TRANSP:TRANSPARENT
END:VEVENT
END:VCALENDAR