BEGIN:VCALENDAR
VERSION:2.0
METHOD:PUBLISH
CALSCALE:GREGORIAN
PRODID:-//Helios Calendar//EN
X-FROM-URL:https://theblueridgehighlander.com/calendar/index.php?eID=17459
X-WR-RELCALID:Highlander Calendar of Events Hiawassee, GA - Jamey Johnson - The Last Honky Tonk Tour 20260508T190000
X-WR-TIMEZONE:America/New_York
X-WR-CALNAME:Highlander Calendar of Events
BEGIN:VEVENT
URL;VALUE=URI:https://theblueridgehighlander.com/calendar/index.php?eID=17459
DTSTART:20260508T190000
DTEND:20260508T190000
SUMMARY:Hiawassee\, GA - Jamey Johnson - The Last Honky Tonk Tour
DESCRIPTION:Jamey Johnson – The Last Honky Tonk TourFriday\, May 8\, 20267pmTickets: $50 - $99 + handling and $1 for Jamey's Give It Away FoundationAbout Jamey Johnson:Johnson\, a ten-time GRAMMY... For complete event details please visit:  https://theblueridgehighlander.com/calendar/?eID=17459\n______________________________\nEvent Downloaded Powered by Helios Calendar
LOCATION:Georgia Mountain Fairgrounds - 1311 Music Hall Road \, Hiawassee\, GA USA 30546
CATEGORIES:Highlander Calendar of Events Events
PRIORITY:0
TRANSP:TRANSPARENT
END:VEVENT
END:VCALENDAR