BEGIN:VCALENDAR
VERSION:2.0
METHOD:PUBLISH
CALSCALE:GREGORIAN
PRODID:-//Helios Calendar//EN
X-FROM-URL:https://theblueridgehighlander.com/calendar/index.php?eID=17601
X-WR-RELCALID:Highlander Calendar of Events Blue Ridge GA - Hops, Vines & Dines Fundraiser - and Evening to Support the Arts 20260718T180000
X-WR-TIMEZONE:America/New_York
X-WR-CALNAME:Highlander Calendar of Events
BEGIN:VEVENT
URL;VALUE=URI:https://theblueridgehighlander.com/calendar/index.php?eID=17601
DTSTART:20260718T180000
DTEND:20260718T193000
SUMMARY:Blue Ridge GA - Hops\, Vines & Dines Fundraiser - and Evening to Support the Arts
DESCRIPTION:Hops\, Vines & Dines Join us at the Art Center for an unforgettable fundraising evening at “Hops\, Vines & Dines\,” where creativity meets flavor! Indulge your senses while... For complete event details please visit:  https://theblueridgehighlander.com/calendar/?eID=17601\n______________________________\nEvent Downloaded Powered by Helios Calendar
LOCATION:The Art Center - Blue Ridge Mtn Arts Association - 420 West Main Street \, Blue Ridge\, GA USA 30513
CATEGORIES:Highlander Calendar of Events Events
PRIORITY:0
TRANSP:TRANSPARENT
END:VEVENT
END:VCALENDAR