BEGIN:VCALENDAR
VERSION:2.0
METHOD:PUBLISH
CALSCALE:GREGORIAN
PRODID:-//Helios Calendar//EN
X-FROM-URL:https://theblueridgehighlander.com/calendar/index.php?eID=17718
X-WR-RELCALID:Highlander Calendar of Events Chimney Rock NC - Celebrate National Trails Day 20260606T100000
X-WR-TIMEZONE:America/New_York
X-WR-CALNAME:Highlander Calendar of Events
BEGIN:VEVENT
URL;VALUE=URI:https://theblueridgehighlander.com/calendar/index.php?eID=17718
DTSTART:20260606T100000
DTEND:20260606T150000
SUMMARY:Chimney Rock NC - Celebrate National Trails Day
DESCRIPTION: Hit the trails and celebrate this national holiday! Join naturalists throughout the day to learn more about the park’s history\, flora\, and fauna.Reservations are required for Chimney... For complete event details please visit:  https://theblueridgehighlander.com/calendar/?eID=17718\n______________________________\nEvent Downloaded Powered by Helios Calendar
LOCATION:Chimney Rock at Chimney Rock State Park - 174 Chimney Rock Park Road \, Chimney Rock\, NC USA 28720
CATEGORIES:Highlander Calendar of Events Events
PRIORITY:0
TRANSP:TRANSPARENT
END:VEVENT
END:VCALENDAR