BEGIN:VCALENDAR
VERSION:2.0
METHOD:PUBLISH
CALSCALE:GREGORIAN
PRODID:-//Helios Calendar//EN
X-FROM-URL:https://theblueridgehighlander.com/calendar/index.php?eID=17719
X-WR-RELCALID:Highlander Calendar of Events Chimney Rock NC - Naturalist Niche: Geology of the Gorge 20260613T090000
X-WR-TIMEZONE:America/New_York
X-WR-CALNAME:Highlander Calendar of Events
BEGIN:VEVENT
URL;VALUE=URI:https://theblueridgehighlander.com/calendar/index.php?eID=17719
DTSTART:20260613T090000
DTEND:20260613T110000
SUMMARY:Chimney Rock NC - Naturalist Niche: Geology of the Gorge
DESCRIPTION:Naturalist Niche: Geology of the GorgeJoin local experts on a guided hike to discover the geologic history of the Rock. This “gneiss” opportunity invites you to explore the unique... For complete event details please visit:  https://theblueridgehighlander.com/calendar/?eID=17719\n______________________________\nEvent Downloaded Powered by Helios Calendar
LOCATION:Chimney Rock at Chimney Rock State Park - 174 Chimney Rock Park Road \, Chimney Rock\, NC USA 28720
CATEGORIES:Highlander Calendar of Events Events
PRIORITY:0
TRANSP:TRANSPARENT
END:VEVENT
END:VCALENDAR